BEGIN:VCALENDAR
VERSION:2.0
PRODID:-//Cluster Pl&aacute;sticos Quer&eacute;taro - ECPv6.15.20//NONSGML v1.0//EN
CALSCALE:GREGORIAN
METHOD:PUBLISH
X-WR-CALNAME:Cluster Pl&aacute;sticos Quer&eacute;taro
X-ORIGINAL-URL:https://clusterplasticos.org
X-WR-CALDESC:Eventos para Cluster Pl&aacute;sticos Quer&eacute;taro
REFRESH-INTERVAL;VALUE=DURATION:PT1H
X-Robots-Tag:noindex
X-PUBLISHED-TTL:PT1H
BEGIN:VTIMEZONE
TZID:America/Mexico_City
BEGIN:STANDARD
TZOFFSETFROM:-0600
TZOFFSETTO:-0600
TZNAME:CST
DTSTART:20230101T000000
END:STANDARD
END:VTIMEZONE
BEGIN:VEVENT
DTSTART;VALUE=DATE:20250709
DTEND;VALUE=DATE:20250711
DTSTAMP:20260421T120806
CREATED:20250121T163009Z
LAST-MODIFIED:20250121T163010Z
UID:645-1752019200-1752191999@clusterplasticos.org
SUMMARY:Plastics Meetings México
DESCRIPTION:
URL:https://clusterplasticos.org/evento/plastics-meetings-mexico/
CATEGORIES:Evento Especial
ATTACH;FMTTYPE=image/png:https://clusterplasticos.org/wp-content/uploads/2025/01/Banner_Save-the-date-2025-1.png
END:VEVENT
BEGIN:VEVENT
DTSTART;TZID=America/Mexico_City:20250428T090000
DTEND;TZID=America/Mexico_City:20250428T110000
DTSTAMP:20260421T120806
CREATED:20250311T161639Z
LAST-MODIFIED:20250402T203022Z
UID:729-1745830800-1745838000@clusterplasticos.org
SUMMARY:Taller Incoterms
DESCRIPTION:Formulario  Deshabilitado \nCupo Lleno\nPronto nuevas fechas
URL:https://clusterplasticos.org/evento/taller-incoterms/
CATEGORIES:Evento Especial
ATTACH;FMTTYPE=image/png:https://clusterplasticos.org/wp-content/uploads/2025/03/Taller-Incorerms-01.png
END:VEVENT
BEGIN:VEVENT
DTSTART;TZID=America/Mexico_City:20240822T083000
DTEND;TZID=America/Mexico_City:20240822T110000
DTSTAMP:20260421T120806
CREATED:20240815T202620Z
LAST-MODIFIED:20240815T202749Z
UID:599-1724315400-1724324400@clusterplasticos.org
SUMMARY:¡No te pierdas la 3ra Junta Bimestral de Socios del Clúster de Plásticos de Querétaro!
DESCRIPTION:El Clúster de Plásticos de Querétaro te invita cordialmente a su 3ra Junta Bimestral de Socios\, donde tendremos la oportunidad de conocer más sobre las actividades del Clúster\, el resumen de actividades de los comités\, y una presentación especial sobre Meximold 2024 y el Programa de Desarrollo en Moldes. \n¡Te esperamos el próximo jueves 22 de agosto a las 8:30 am en el Club de Industriales de Querétaro\, Salón Presidentes 2! \nConfirma tu asistencia: \nCorreo: servicioalcliente@clusterplasticos.orgTeléfono: 442 455 6370 (Ext. 107)¡No faltes a esta importante reunión! \n#ClústerDePlásticos #Querétaro #Meximold2024
URL:https://clusterplasticos.org/evento/no-te-pierdas-la-3ra-junta-bimestral-de-socios-del-cluster-de-plasticos-de-queretaro/
CATEGORIES:Reunión Bimestral de Socios
ATTACH;FMTTYPE=image/jpeg:https://clusterplasticos.org/wp-content/uploads/2024/08/WhatsApp-Image-2024-08-07-at-10.22.12-AM.jpeg
END:VEVENT
BEGIN:VEVENT
DTSTART;TZID=America/Mexico_City:20240708T090000
DTEND;TZID=America/Mexico_City:20240708T130000
DTSTAMP:20260421T120806
CREATED:20240524T164802Z
LAST-MODIFIED:20240527T163352Z
UID:414-1720429200-1720443600@clusterplasticos.org
SUMMARY:Curso | Excel Intermedio
DESCRIPTION:\n					\n						Fechas\n						8\, 9 y 10 de Julio \n					\n				\n			\n			\n				\n				\n				\n				\n				\n			\n				\n				\n				\n				\n			\n				\n				\n				\n				\n				\n				\n				\n				\n				\n				\n				\n					\n					\n						Inversión\n						Público General: $800+IVA \nSocios\, Alumnos y Maestros. $600+IVA \n					\n				\n			\n			\n				\n				\n				\n				\n				\n				\n				\n				\n				\n				\n					\n					\n						Información\n						informacion@clusterplasticos.org
URL:https://clusterplasticos.org/evento/excel-intermedio/
ATTACH;FMTTYPE=image/png:https://clusterplasticos.org/wp-content/uploads/2024/05/Excel-Intermedio-1.png
ORGANIZER;CN="Cluster de Pl%C3%A1sticos de Quer%C3%A9taro":MAILTO:informacion@clusterplasticos.org
END:VEVENT
BEGIN:VEVENT
DTSTART;TZID=America/Mexico_City:20240708T090000
DTEND;TZID=America/Mexico_City:20240708T130000
DTSTAMP:20260421T120806
CREATED:20240524T164802Z
LAST-MODIFIED:20240527T163352Z
UID:414-1720429200-1720443600@clusterplasticos.org
SUMMARY:Curso | Excel Intermedio
DESCRIPTION:\n					\n						Fechas\n						8\, 9 y 10 de Julio \n					\n				\n			\n			\n				\n				\n				\n				\n				\n			\n				\n				\n				\n				\n			\n				\n				\n				\n				\n				\n				\n				\n				\n				\n				\n				\n					\n					\n						Inversión\n						Público General: $800+IVA \nSocios\, Alumnos y Maestros. $600+IVA \n					\n				\n			\n			\n				\n				\n				\n				\n				\n				\n				\n				\n				\n				\n					\n					\n						Información\n						informacion@clusterplasticos.org
URL:https://clusterplasticos.org/evento/excel-intermedio/
ATTACH;FMTTYPE=image/png:https://clusterplasticos.org/wp-content/uploads/2024/05/Excel-Intermedio-1.png
ORGANIZER;CN="Cluster de Pl%C3%A1sticos de Quer%C3%A9taro":MAILTO:informacion@clusterplasticos.org
END:VEVENT
BEGIN:VEVENT
DTSTART;TZID=America/Mexico_City:20240708T090000
DTEND;TZID=America/Mexico_City:20240708T130000
DTSTAMP:20260421T120806
CREATED:20240524T164802Z
LAST-MODIFIED:20240527T163352Z
UID:414-1720429200-1720443600@clusterplasticos.org
SUMMARY:Curso | Excel Intermedio
DESCRIPTION:\n					\n						Fechas\n						8\, 9 y 10 de Julio \n					\n				\n			\n			\n				\n				\n				\n				\n				\n			\n				\n				\n				\n				\n			\n				\n				\n				\n				\n				\n				\n				\n				\n				\n				\n				\n					\n					\n						Inversión\n						Público General: $800+IVA \nSocios\, Alumnos y Maestros. $600+IVA \n					\n				\n			\n			\n				\n				\n				\n				\n				\n				\n				\n				\n				\n				\n					\n					\n						Información\n						informacion@clusterplasticos.org
URL:https://clusterplasticos.org/evento/excel-intermedio/
ATTACH;FMTTYPE=image/png:https://clusterplasticos.org/wp-content/uploads/2024/05/Excel-Intermedio-1.png
ORGANIZER;CN="Cluster de Pl%C3%A1sticos de Quer%C3%A9taro":MAILTO:informacion@clusterplasticos.org
END:VEVENT
BEGIN:VEVENT
DTSTART;TZID=America/Mexico_City:20240608T080000
DTEND;TZID=America/Mexico_City:20240608T140000
DTSTAMP:20260421T120806
CREATED:20240524T192325Z
LAST-MODIFIED:20240527T143359Z
UID:458-1717833600-1717855200@clusterplasticos.org
SUMMARY:Curso | Marketing Digital
DESCRIPTION:\n					\n						Fecha\n						8 de Junio \n					\n				\n			\n			\n				\n				\n				\n				\n				\n			\n				\n				\n				\n				\n			\n				\n				\n				\n				\n				\n				\n				\n				\n				\n				\n				\n					\n					\n						Inversión\n						Público General: $1\,200 +IVA \nSocios\, Alumnos y Maestros. $1\,000 +IVA \n					\n				\n			\n			\n				\n				\n				\n				\n				\n				\n				\n				\n				\n				\n					\n					\n						Información\n						informacion@clusterplasticos.org
URL:https://clusterplasticos.org/evento/marketing-digital/
ATTACH;FMTTYPE=image/png:https://clusterplasticos.org/wp-content/uploads/2024/05/Marketing-Digital.png
ORGANIZER;CN="Cluster de Pl%C3%A1sticos de Quer%C3%A9taro":MAILTO:informacion@clusterplasticos.org
END:VEVENT
END:VCALENDAR